BEGIN:VCALENDAR
VERSION:2.0
PRODID:-//Parents Council of Washington - ECPv6.15.20//NONSGML v1.0//EN
CALSCALE:GREGORIAN
METHOD:PUBLISH
X-WR-CALNAME:Parents Council of Washington
X-ORIGINAL-URL:https://www.parentscouncil.org
X-WR-CALDESC:Events for Parents Council of Washington
REFRESH-INTERVAL;VALUE=DURATION:PT1H
X-Robots-Tag:noindex
X-PUBLISHED-TTL:PT1H
BEGIN:VTIMEZONE
TZID:America/New_York
BEGIN:DAYLIGHT
TZOFFSETFROM:-0500
TZOFFSETTO:-0400
TZNAME:EDT
DTSTART:20140309T070000
END:DAYLIGHT
BEGIN:STANDARD
TZOFFSETFROM:-0400
TZOFFSETTO:-0500
TZNAME:EST
DTSTART:20141102T060000
END:STANDARD
BEGIN:DAYLIGHT
TZOFFSETFROM:-0500
TZOFFSETTO:-0400
TZNAME:EDT
DTSTART:20150308T070000
END:DAYLIGHT
BEGIN:STANDARD
TZOFFSETFROM:-0400
TZOFFSETTO:-0500
TZNAME:EST
DTSTART:20151101T060000
END:STANDARD
BEGIN:DAYLIGHT
TZOFFSETFROM:-0500
TZOFFSETTO:-0400
TZNAME:EDT
DTSTART:20160313T070000
END:DAYLIGHT
BEGIN:STANDARD
TZOFFSETFROM:-0400
TZOFFSETTO:-0500
TZNAME:EST
DTSTART:20161106T060000
END:STANDARD
BEGIN:DAYLIGHT
TZOFFSETFROM:-0500
TZOFFSETTO:-0400
TZNAME:EDT
DTSTART:20170312T070000
END:DAYLIGHT
BEGIN:STANDARD
TZOFFSETFROM:-0400
TZOFFSETTO:-0500
TZNAME:EST
DTSTART:20171105T060000
END:STANDARD
BEGIN:DAYLIGHT
TZOFFSETFROM:-0500
TZOFFSETTO:-0400
TZNAME:EDT
DTSTART:20180311T070000
END:DAYLIGHT
BEGIN:STANDARD
TZOFFSETFROM:-0400
TZOFFSETTO:-0500
TZNAME:EST
DTSTART:20181104T060000
END:STANDARD
BEGIN:DAYLIGHT
TZOFFSETFROM:-0500
TZOFFSETTO:-0400
TZNAME:EDT
DTSTART:20190310T070000
END:DAYLIGHT
BEGIN:STANDARD
TZOFFSETFROM:-0400
TZOFFSETTO:-0500
TZNAME:EST
DTSTART:20191103T060000
END:STANDARD
END:VTIMEZONE
BEGIN:VEVENT
DTSTART;TZID=America/New_York:20180918T083000
DTEND;TZID=America/New_York:20180918T110000
DTSTAMP:20260424T075822
CREATED:20180620T213035Z
LAST-MODIFIED:20181025T180106Z
UID:6282-1537259400-1537268400@www.parentscouncil.org
SUMMARY:2018 Orientation
DESCRIPTION:Join fellow Parent Association Presidents and PCW Representatives from other Parents Council of Washington member schools for a presentation by Dr. William Stixrud and Ned Johnson\, Authors of  The Self-Driven Child: The Science and Sense of Giving Your Kids More Control Over Their Lives. Following this interactive talk\, you will learn about your roles and responsibilities as a vital part of the Parents Council of Washington community and how to access communications tools that will help you connect your school community with PCW programs and resources.
URL:https://www.parentscouncil.org/event/2018-orientation/
LOCATION:Holton-Arms School\, 7303 River Rd\, Bethesda\, MD\, 20817\, United States
CATEGORIES:Parent Association President and PCW School Representative Events
END:VEVENT
BEGIN:VEVENT
DTSTART;TZID=America/New_York:20180502T083000
DTEND;TZID=America/New_York:20180502T110000
DTSTAMP:20260424T075822
CREATED:20170823T132253Z
LAST-MODIFIED:20180812T150744Z
UID:5450-1525249800-1525258800@www.parentscouncil.org
SUMMARY:2018 PA Presidents' Forum
DESCRIPTION:The PA Presidents’ Forum is an informative networking event open to current year and incoming Parents Association Presidents at Member Schools.  The 2018 PA Presidents’ Forum will be held at Norwood School in the Music Room in the Murray Building in the Lower School. \nThe PA Presidents’ Forum offers a reflective perspective and informative discussion for incoming PA Presidents\, with advice and insight from outgoing PA Presidents addressing “what I know now that I wish I knew then.”
URL:https://www.parentscouncil.org/event/parent-association-presidents-forum/
LOCATION:Norwood School\, 8821 River Road\, Bethesda\, MD\, 20817\, United States
CATEGORIES:Parent Association President and PCW School Representative Events
END:VEVENT
BEGIN:VEVENT
DTSTART;TZID=America/New_York:20180417T083000
DTEND;TZID=America/New_York:20180417T110000
DTSTAMP:20260424T075822
CREATED:20180621T211743Z
LAST-MODIFIED:20180621T211937Z
UID:6363-1523953800-1523962800@www.parentscouncil.org
SUMMARY:2018 Upper School Deans' Breakfast
DESCRIPTION:
URL:https://www.parentscouncil.org/event/upper-school-deans-breakfast-2/
LOCATION:Bullis School\, 10601 Falls Rd\, Potomac\, MD\, 20854\, United States
CATEGORIES:Upper School Dean of Students Program
END:VEVENT
BEGIN:VEVENT
DTSTART;TZID=America/New_York:20180412T183000
DTEND;TZID=America/New_York:20180412T210000
DTSTAMP:20260424T075822
CREATED:20170825T172712Z
LAST-MODIFIED:20180425T185759Z
UID:5426-1523557800-1523566800@www.parentscouncil.org
SUMMARY:2018 Spring Speaker: Beth Kobliner
DESCRIPTION:An Evening with Beth Kobliner\, Author of Make Your Kid a Money Genius ( Even If  You’re Not) presenting “Raising 21st Century Citizens: The Money Talk”.  Join us Thursday\, April 12\, 2018. \nGeorgetown Visitation Preparatory School \nWashington\, DC\, Time: 6:30 – 9:00pm \n  \n\n 
URL:https://www.parentscouncil.org/event/spring-speaker/
LOCATION:Georgetown Visitation Preparatory School\, 1524 Thirty-fifth Street NW\, Washington\, DC\, DC\, 20007\, United States
CATEGORIES:Speaker Series
END:VEVENT
BEGIN:VEVENT
DTSTART;TZID=America/New_York:20180307T083000
DTEND;TZID=America/New_York:20180307T110000
DTSTAMP:20260424T075822
CREATED:20170823T145643Z
LAST-MODIFIED:20180617T144310Z
UID:5444-1520411400-1520420400@www.parentscouncil.org
SUMMARY:2018 Best Practices Forum Raising 21st Century Citizens: The Evolution in Teaching and Learning
DESCRIPTION:
URL:https://www.parentscouncil.org/event/best-practices-raising-21st-century-citizens/
LOCATION:National Presbyterian School\, 4121 Nebraska Avenue Northwest\, Washington\, DC \, 20016\, United States
CATEGORIES:Best Practices Forum
END:VEVENT
BEGIN:VEVENT
DTSTART;TZID=America/New_York:20180221T083000
DTEND;TZID=America/New_York:20180221T110000
DTSTAMP:20260424T075822
CREATED:20170825T173726Z
LAST-MODIFIED:20180731T143953Z
UID:5442-1519201800-1519210800@www.parentscouncil.org
SUMMARY:2018 Middle School Student Leader Breakfast
DESCRIPTION:Snow Date: February 27\, 2018
URL:https://www.parentscouncil.org/event/middle-school-student-leader-breakfast/
LOCATION:Washington Episcopal School\, 5600 Little Falls Parkway\, Bethesda\, MD\, 20816\, United States
CATEGORIES:Student Leader Breakfasts
END:VEVENT
BEGIN:VEVENT
DTSTART;TZID=America/New_York:20180206T083000
DTEND;TZID=America/New_York:20180206T110000
DTSTAMP:20260424T075822
CREATED:20170602T232609Z
LAST-MODIFIED:20180812T152249Z
UID:5419-1517905800-1517914800@www.parentscouncil.org
SUMMARY:2018 Upper School Leader Breakfast
DESCRIPTION:Snow Date: February 13\, 2018
URL:https://www.parentscouncil.org/event/upper-school-leadership-breakfast/
LOCATION:St. Andrew’s Episcopal School\, 8804 Postoak Rd.\, Potomac\, MD\, 20854\, United States
CATEGORIES:Student Leader Breakfasts
END:VEVENT
BEGIN:VEVENT
DTSTART;TZID=America/New_York:20180124T093000
DTEND;TZID=America/New_York:20180124T113000
DTSTAMP:20260424T075822
CREATED:20170602T232432Z
LAST-MODIFIED:20200330T172121Z
UID:5413-1516786200-1516793400@www.parentscouncil.org
SUMMARY:2018 "Most Likely to Succeed" Movie Screening
DESCRIPTION:PCW is hosting a screening of a “Most Likely to Succeed”  on January 24\, 2018 from 9:30-11:30am at Landmark Theater Bethesda Row Cinema. Click here to see the movie’s trailer. \nThis event is open to parents\, faculty\, administrators and staff from our member schools. \nSnow Date: January 31\, 2018
URL:https://www.parentscouncil.org/event/movie-event/
LOCATION:Virtual\, United States
CATEGORIES:Movie Screening,Parent Event Movie Screening
END:VEVENT
BEGIN:VEVENT
DTSTART;TZID=America/New_York:20171019T183000
DTEND;TZID=America/New_York:20171019T210000
DTSTAMP:20260424T075822
CREATED:20170825T175851Z
LAST-MODIFIED:20171026T171028Z
UID:5440-1508437800-1508446800@www.parentscouncil.org
SUMMARY:2017 Fall Speaker: Richard Weissbourd
DESCRIPTION:An Evening with Richard Weissbourd\, Author of The Parents We Mean to Be. Harvard psychologist and author Richard Weissbourd\, will present “Raising Caring\, Empathetic and Happy Children: Strategies for Parents and Educators” \nJoin us Thursday\, October 19\, 2017 \nSidwell Friends School \nWashington\, DC\, Time: 6:30 – 9:00pm \nPCW FALL Speaker 2017 Flyer
URL:https://www.parentscouncil.org/event/2017-fall-speaker-richard-weissbourd/
LOCATION:Sidwell Friends School\, 3825 Wisconsin Ave NW\, Washington\, DC\, DC\, 20016\, United States
CATEGORIES:Speaker Series
END:VEVENT
BEGIN:VEVENT
DTSTART;TZID=America/New_York:20170919T083000
DTEND;TZID=America/New_York:20170919T110000
DTSTAMP:20260424T075822
CREATED:20170825T205212Z
LAST-MODIFIED:20171011T202930Z
UID:5527-1505809800-1505818800@www.parentscouncil.org
SUMMARY:2017 Orientation
DESCRIPTION:Meet parent leaders from other PCW member schools and our current board members. Learn about your roles and responsibilities as a vital part of the Parents Council of Washington community. Access communications tools that will help you connect your school community with PCW programs and resources. \nDownload Event Summary
URL:https://www.parentscouncil.org/event/2017-orientation/
LOCATION:Holton-Arms School\, 7303 River Rd\, Bethesda\, MD\, 20817\, United States
CATEGORIES:Parent Association President and PCW School Representative Events
END:VEVENT
BEGIN:VEVENT
DTSTART;TZID=America/New_York:20170510T083000
DTEND;TZID=America/New_York:20170510T110000
DTSTAMP:20260424T075822
CREATED:20160817T225431Z
LAST-MODIFIED:20171011T203148Z
UID:3318-1494405000-1494414000@www.parentscouncil.org
SUMMARY:2017 PA Presidents’ Forum
DESCRIPTION:The PA Presidents’ Forum is an informative networking event open to current year and incoming Parents Association Presidents at Member Schools.  The 2017 PA Presidents Forum was held at Norwood School in the Music Room in the Murray Building in the Lower School. \nThe PA Presidents’ Forum offers a reflective perspective and informative discussion for incoming PA Presidents\, with advice and insight from outgoing PA Presidents addressing “what I know now that I wish I knew then.” \nOur featured panelists were these experienced Parent Association Presidents: \n\nCathy Butz\, Holton-Arms\nSuzanne Gray\, Flint Hill\nCindy O’Kane\, Langley\n\nThis program is open to incoming and outgoing member school Parent Association Presidents only. \nDownload Event Summary \n  \nPlease note: PCW may photograph or videotape our non-student events for possible use in PCW promotional materials.
URL:https://www.parentscouncil.org/event/2017-pa-presidents-forum/
LOCATION:Norwood School\, 8821 River Road\, Bethesda\, MD\, 20817\, United States
CATEGORIES:Events,Parent Association President and PCW School Representative Events
END:VEVENT
BEGIN:VEVENT
DTSTART;TZID=America/New_York:20170427T120000
DTEND;TZID=America/New_York:20170427T140000
DTSTAMP:20260424T075822
CREATED:20160818T185936Z
LAST-MODIFIED:20170501T073622Z
UID:3421-1493294400-1493301600@www.parentscouncil.org
SUMMARY:2017 Deans' Luncheon
DESCRIPTION:Our Deans’ Luncheon is a unique opportunity for our member school upper school deans of students to come together and confidentially collaborate on issues of shared interest. The foundation for this annual conversation is our Upper School Student Leader Breakfast summary\, which highlights the issues\, dialogue\, and insights students raised at this year’s breakfast event\, without attribution to any specific student or school.  PCW provides the deans with the Upper School Student Leader Breakfast summary in advance of the Deans’ Luncheon. \nThe Deans’ Luncheon is open to one upper school representative per member school only. No other participants are allowed. \n  \nPlease note: PCW may photograph or videotape our non-student events for possible use in PCW promotional materials.
URL:https://www.parentscouncil.org/event/2017-deans-lunch/
LOCATION:Georgetown Visitation Preparatory School\, 1524 Thirty-fifth Street NW\, Washington\, DC\, DC\, 20007\, United States
CATEGORIES:Events,Upper School Dean of Students Program
END:VEVENT
BEGIN:VEVENT
DTSTART;TZID=America/New_York:20170412T083000
DTEND;TZID=America/New_York:20170412T110000
DTSTAMP:20260424T075822
CREATED:20160817T225044Z
LAST-MODIFIED:20170501T231542Z
UID:3317-1491985800-1491994800@www.parentscouncil.org
SUMMARY:2017 Spring Speaker: Glenn Whitman
DESCRIPTION:We are pleased to welcome Glenn Whitman\, Director of the Center for Transformative Teaching & Learning at St. Andrew’s Episcopal School and co-author of Neuroteach: Brain Science and the Future of Education for a presentation entitled: Learning and Your Child’s Brain: What the Research Suggests. \nGlenn spoke on Wednesday\, April 12 at Holton-Arms School (7303 River Road\, Bethesda\, MD 20817).  There were refreshments and conversation starting at 8:30 am\, followed by the presentation at 9:00 am.  Neuroteach was available for purchase\, and there was a book signing from 10:30 – 11:00 am. For more information\,download the 2017 Spring Speaker Flyer.\n\nCheck out the short message from Glenn in the video below! \n\n		\n	\n	\n	\n	\n		PCW_ Learning and Your Child's Brain - April 12 - 480	\n	\n	\n\n	\nView the slides from the Spring Speaker program here. \nOur Spring Speaker program was free and open to all\, and free parking was available. \nPlease note: PCW may photograph or videotape our non-student events for possible use in PCW promotional materials.
URL:https://www.parentscouncil.org/event/2017-spring-speaker/
LOCATION:Holton-Arms School\,  7303 River Road\, Bethesda \, MD\, 20817\, United States
CATEGORIES:Events,Speaker Series
END:VEVENT
BEGIN:VEVENT
DTSTART;TZID=America/New_York:20170308T083000
DTEND;TZID=America/New_York:20170308T110000
DTSTAMP:20260424T075822
CREATED:20160819T144435Z
LAST-MODIFIED:20180405T162533Z
UID:3430-1488961800-1488970800@www.parentscouncil.org
SUMMARY:2017 Best Practices Forum A Child's Brain: What Schools Know and How it Impacts Learning\, Teaching and Parenting
DESCRIPTION:All parents and educators at PCW Member Schools are invited to attend our 2017 Best Practices Forum. This year’s topic is: A Child’s Brain:What Schools Know and How It Impacts Learning\, Teaching and Parenting.\n \nJoin us on Wednesday\, March 8\, at St. Andrew’s Episcopal School (8804 Postoak Road\, Potomac\, MD 20854). \nWe will have a light breakfast starting at 8:30 am followed by a dynamic panel presentation from 9:00 – 11:00 am. \nOur panelists will be: \n\nTia Henteleff\, Primary Teacher\, Concord Hill Lower School\nRodney Glasgow\, Head of Middle School\, St. Andrew’s Episcopal School\nEmily Sanderson\, Director of Studies\, Flint Hill School\n\nOur conversation will focus on how our schools: \n\nAssemble research at the forefront of education\nTrack and evaluate education research\nShare research with faculty\, staff\, parents\, and students\nIntegrate research into school policies and curricula\nRecommend programs or techniques that have met with success\n\nWe hope you will join us! \nDownload the flyer here. \nSnow date is March 15. \nPlease note: We may take photographs at this event\, and event photos may be used in promotional materials. Let us know if you have any concerns.
URL:https://www.parentscouncil.org/event/2017-best-practices-forum/
LOCATION:St. Andrew’s Episcopal School\, 8804 Postoak Rd.\, Potomac\, MD\, 20854\, United States
CATEGORIES:Best Practices Forum,Events
END:VEVENT
BEGIN:VEVENT
DTSTART;TZID=America/New_York:20170216T083000
DTEND;TZID=America/New_York:20170216T113000
DTSTAMP:20260424T075822
CREATED:20160817T224306Z
LAST-MODIFIED:20170228T142214Z
UID:3316-1487233800-1487244600@www.parentscouncil.org
SUMMARY:2017 Middle School Student Leader Breakfast
DESCRIPTION:Snow date: February 22nd
URL:https://www.parentscouncil.org/event/2017-middle-school-student-leader-breakfast/
LOCATION:Washington Episcopal School\, 5600 Little Falls Parkway\, Bethesda\, MD\, 20816\, United States
CATEGORIES:Events,Student Leader Breakfasts
END:VEVENT
BEGIN:VEVENT
DTSTART;TZID=America/New_York:20170209T083000
DTEND;TZID=America/New_York:20170209T120000
DTSTAMP:20260424T075822
CREATED:20160823T164558Z
LAST-MODIFIED:20170405T011605Z
UID:3541-1486629000-1486641600@www.parentscouncil.org
SUMMARY:2017 Upper School Student Leader Breakfast
DESCRIPTION:Snow date: February 23rd
URL:https://www.parentscouncil.org/event/2017-upperfor-high-school-students-selected-member-schools-school-student-leader-breakfast/
LOCATION:Potomac School\, United States
CATEGORIES:Events,Student Leader Breakfasts
END:VEVENT
BEGIN:VEVENT
DTSTART;TZID=America/New_York:20170131T093000
DTEND;TZID=America/New_York:20170131T113000
DTSTAMP:20260424T075822
CREATED:20161215T022025Z
LAST-MODIFIED:20170131T020615Z
UID:4417-1485855000-1485862200@www.parentscouncil.org
SUMMARY:Viewing of the Movie "Screenagers"
DESCRIPTION: Unfortunately we are sold out. \nIf you RSVP’d to attend Screenagers but your plans have changed and you are no longer able to join us\, please email us at administration@parentscouncil.org to let us know. We would love to offer your seat to someone else who is interested in attending. \n  \n  *   *   *  *  *  *  * \nParents Council of Washington is pleased to offer a free screening of the movie SCREENAGERS. \nThe average kid in the United States spends 6.5 hours a day looking at screens. SCREENAGERS explores family struggles over social media\, video games\, academics and internet addiction. Through poignant\, and unexpectedly funny stories\, along with surprising insights from authors\, psychologists\, and brain scientists\, SCREENAGERS reveals how tech time impacts kids’ development. \nThis important movie will help you empower your kids to better navigate the digital world and find balance. \nSpace is limited. Please register in advance to ensure a seat. \nThis is the movie everyone is talking about. Don’t miss it! \n  \nSnow date: Monday\, February 6 at 9:30 am.
URL:https://www.parentscouncil.org/event/viewing-movie-screenagers/
LOCATION:Online Screening\, United States
CATEGORIES:Events
END:VEVENT
BEGIN:VEVENT
DTSTART;TZID=America/New_York:20161115T083000
DTEND;TZID=America/New_York:20161115T110000
DTSTAMP:20260424T075822
CREATED:20160817T224131Z
LAST-MODIFIED:20161207T025424Z
UID:3315-1479198600-1479207600@www.parentscouncil.org
SUMMARY:2016 Parent Speak
DESCRIPTION:Parent Speak is a come-as-you-are facilitated discussion of parenting topics selected by you! \nNational Presbyterian School \nNational Presbyterian Church – Stone Hall \n4121 Nebraska Avenue\, NW \nWashington\, DC \n8:30-9:00 am – Light Breakfast \n9:00 – 11:00 am – Conversation \nWe invite all PCW Member School parents to join us for a facilitated discussion about the challenges and rewards of parenting in the DC area.  Parents can share ideas\, concerns\, and tried-and-true tips for parenting at every stage of development. \nPossible topics may include: brain development\, screen time\, drugs & alcohol\, homework\, cell phones\, healthy relationships\, etc. \nPlease share our flyer with other PCW Member School parents.
URL:https://www.parentscouncil.org/event/2016-parent-speak/
LOCATION:National Presbyterian School\, 4121 Nebraska Avenue Northwest\, Washington\, DC \, 20016\, United States
CATEGORIES:Events,Parent Speak
END:VEVENT
BEGIN:VEVENT
DTSTART;TZID=America/New_York:20161026T183000
DTEND;TZID=America/New_York:20161026T210000
DTSTAMP:20260424T075822
CREATED:20160817T223715Z
LAST-MODIFIED:20170521T024621Z
UID:3314-1477506600-1477515600@www.parentscouncil.org
SUMMARY:2016 Fall Speaker: Tina Payne Bryson\, PhD
DESCRIPTION:The Whole-Brain Child and Teen: Revolutionary Strategies to Nurture the Developing Mind \nFeaturing the insights of New York Times best-selling author and psychotherapist \nTina Payne Bryson\, PhD \n\nCo-author of The Whole-Brain Child and No-Drama Discipline\nExecutive Director of The Center for Connection\nFrequent commentator on parenting and the developing brain for major news outlets\n\nLandon School Mondzac Performing Arts Center \n6101 Wilson Lane\, Bethesda\, MD 20817 \n6:30 pm Light Refreshments \n7:00 pm Presentation \n8:30 pm Book Signing \nThe Whole-Brain Child will be available for purchase.  Please share our flyer. \nWe also are happy to share this Tina Bryson Resources Page handout.
URL:https://www.parentscouncil.org/event/2016-fall-speaker/
LOCATION:Landon School\, 6101 Wilson Lane\, Bethesda\, MD\, 20817\, United States
CATEGORIES:Events,Speaker Series
END:VEVENT
BEGIN:VEVENT
DTSTART;TZID=America/New_York:20160921T083000
DTEND;TZID=America/New_York:20160921T110000
DTSTAMP:20260424T075822
CREATED:20160701T180911Z
LAST-MODIFIED:20161006T014225Z
UID:2845-1474446600-1474455600@www.parentscouncil.org
SUMMARY:2016 Orientation
DESCRIPTION:Meet parent leaders from other PCW member schools and our current board members. Learn about your roles and responsibilities as a vital part of the Parents Council of Washington community. Access communications tools that will help you connect your school community with PCW programs and resources.
URL:https://www.parentscouncil.org/event/2016-orientation/
LOCATION:The Langley School\, 1411 Balls Hill Road\, McLean\, VA\, 22101\, United States
CATEGORIES:Events,Parent Association President and PCW School Representative Events
END:VEVENT
BEGIN:VEVENT
DTSTART;TZID=America/New_York:20160503T083000
DTEND;TZID=America/New_York:20160503T113000
DTSTAMP:20260424T075822
CREATED:20160406T182548Z
LAST-MODIFIED:20170825T194134Z
UID:2175-1462264200-1462275000@www.parentscouncil.org
SUMMARY:2016 PA Presidents' Forum
DESCRIPTION:
URL:https://www.parentscouncil.org/event/2016-pcw-pa-presidents-forum/
LOCATION:Washington Episcopal School\,  5600 Little Falls  Dr.\, Bethesda\, MD\, 20854\, United States
CATEGORIES:Events,Parent Association President and PCW School Representative Events
END:VEVENT
BEGIN:VEVENT
DTSTART;TZID=America/New_York:20160413T120000
DTEND;TZID=America/New_York:20160413T140000
DTSTAMP:20260424T075822
CREATED:20160503T185001Z
LAST-MODIFIED:20160824T200949Z
UID:2653-1460548800-1460556000@www.parentscouncil.org
SUMMARY:2016 Deans' Luncheon
DESCRIPTION:
URL:https://www.parentscouncil.org/event/2016-deans-lunch/
LOCATION:Georgetown Visitation Preparatory School\, 1524 Thirty-fifth Street NW\, Washington\, DC\, DC\, 20007\, United States
CATEGORIES:Events,Upper School Dean of Students Program
END:VEVENT
BEGIN:VEVENT
DTSTART;TZID=America/New_York:20160412T083000
DTEND;TZID=America/New_York:20160412T113000
DTSTAMP:20260424T075822
CREATED:20160406T182548Z
LAST-MODIFIED:20190422T125703Z
UID:2174-1460449800-1460460600@www.parentscouncil.org
SUMMARY:2016 Spring Speaker: Brigid Schulte
DESCRIPTION:The Parents Council of Washington presents New York Times Best-Selling Author Brigid Schulte\n“Overwhelmed: How to Work Love and Play When No One Has the Time”\n8:30 : Light breakfast \n9:00 – 10:30 : Presentation \n10:30-11:00 : Book signing \nRSVP at http://tinyurl.com/brigidschulte2016 \n \nPCW Spring Speaker Event Flyer 3.4.16
URL:https://www.parentscouncil.org/event/2016-spring-speaker/
LOCATION:The Langley School\, 1411 Balls Hill Road\, McLean\, VA\, 22101\, United States
CATEGORIES:Events,Parent Association President and PCW School Representative Events,Speaker Series
END:VEVENT
BEGIN:VEVENT
DTSTART;TZID=America/New_York:20160303T090000
DTEND;TZID=America/New_York:20160303T120000
DTSTAMP:20260424T075822
CREATED:20160406T182548Z
LAST-MODIFIED:20160822T195302Z
UID:2173-1456995600-1457006400@www.parentscouncil.org
SUMMARY:2016 Middle School Leader Breakfast
DESCRIPTION:Snow Date: March 10\nThe Parents Council of Washington (PCW) hosted its annual Middle School Student Leader Breakfast on Thursday\, March 3\, 2016 at St. Andrew’s Episcopal School. As noted by PCW event Chairs Nancy Lopez and Catherine Resor\, this event provides a forum for 7th grade student leaders to share ideas and discuss relevant issues with peers.
URL:https://www.parentscouncil.org/event/2016-pcw-middle-school-leader-breakfast/
LOCATION:St. Andrew’s Episcopal School\, United States
CATEGORIES:Events,Student Leader Breakfasts
END:VEVENT
BEGIN:VEVENT
DTSTART;TZID=America/New_York:20160211T083000
DTEND;TZID=America/New_York:20160211T120000
DTSTAMP:20260424T075822
CREATED:20160406T182547Z
LAST-MODIFIED:20160823T164934Z
UID:2171-1455179400-1455192000@www.parentscouncil.org
SUMMARY:2016 Upper School Student Leader Breakfast
DESCRIPTION:This annual event provides a unique forum for student leaders to share ideas and discuss relevant issues with peers. Students gain new perspective on how other schools address these shared issues and acquire fresh insights and ideas to take back to their school communities. Twenty-four participating PCW member schools select nearly 50 students (juniors and seniors) to attend.
URL:https://www.parentscouncil.org/event/2016-pcw-high-school-student-leader-breakfast/
LOCATION:Georgetown Preparatory School\, 10900 Rockville Pike\, North Bethesda\, MD\, 20852\, United States
CATEGORIES:Events,Student Leader Breakfasts
END:VEVENT
BEGIN:VEVENT
DTSTART;TZID=America/New_York:20160203T083000
DTEND;TZID=America/New_York:20160203T113000
DTSTAMP:20260424T075822
CREATED:20160406T182548Z
LAST-MODIFIED:20180211T194702Z
UID:2172-1454488200-1454499000@www.parentscouncil.org
SUMMARY:2016 Best Practices Forum: Finding the Right Balance: How Schools Encourage Students and Families to Discover and Maintain a Healthy Balance
DESCRIPTION:Finding the Right Balance: How Schools Encourage Students and Families to Discover and Maintain a Healthy Balance\n8:30 a.m. to 9:00 a.m. – Light Breakfast \n9:00 a.m. to 11:00 a.m. – Program \n  \nHow Do Our Schools: \n\nDefine balance for students?\nEncourage students to recognize and live balanced lives?\nAddress the concept of balance with students\, faculty and parents?\nSupport students with high levels of stress in need of assistance?\n\nJoin us as our speaker panel addresses important issues: \n\nDr. Elinor Scully\, Head of School\, The Langley School\nLauren Keller\, Middle School Counselor\, Bullis School\nMalcolm McCluskey\, Upper School Assistant Head\, Stone Ridge School\n\n  \nDownload Best Practices E-Binder
URL:https://www.parentscouncil.org/event/2016-pcw-best-practices/
LOCATION:Stone Ridge School of the Sacred Heart\, 9101 Rockville Pike\, Bethesda\, MD\, 20814\, United States
CATEGORIES:Best Practices Forum,Events
END:VEVENT
BEGIN:VEVENT
DTSTART;TZID=America/New_York:20151118T083000
DTEND;TZID=America/New_York:20151118T110000
DTSTAMP:20260424T075822
CREATED:20160406T182547Z
LAST-MODIFIED:20160818T015218Z
UID:2169-1447835400-1447844400@www.parentscouncil.org
SUMMARY:2015 Parent Speak
DESCRIPTION:A Facilitated Discussion of Parenting Topics\nThe Parents Council of Washington (PCW) hosts its third Parent Speak Program for member school parent communities on Wednesday\, November 2015 at The Holton-Arms School. \n 
URL:https://www.parentscouncil.org/event/parent-speak-2015/
LOCATION:Holton-Arms School\, Simms Reception Room\, 7303 River Road\, Bethesda\, MD\, United States
CATEGORIES:Events,Parent Speak
END:VEVENT
BEGIN:VEVENT
DTSTART;TZID=America/New_York:20151104T183000
DTEND;TZID=America/New_York:20151104T210000
DTSTAMP:20260424T075822
CREATED:20160406T182547Z
LAST-MODIFIED:20160831T145757Z
UID:2170-1446661800-1446670800@www.parentscouncil.org
SUMMARY:2015 Fall Speaker:  Jessica Lahey
DESCRIPTION:Jessica Lahey\, Author of ‘The Gift of Failure’\nThe Gift of Failure: How the Best Parents Learn to Let Go So Their Children Can Succeed\nThe Parents Council of Washington welcomes author\, educator and speaker Jessica Lahey to present to an audience of over 400 on the necessity and benefit of allowing our children to fail.
URL:https://www.parentscouncil.org/event/2015-fall-speaker-jessica-lahey/
LOCATION:Sidwell Friends School\, 3825 Wisconsin Ave NW\, Washington\, DC\, DC\, 20016\, United States
CATEGORIES:Events,Speaker Series
END:VEVENT
BEGIN:VEVENT
DTSTART;TZID=America/New_York:20151007T083000
DTEND;TZID=America/New_York:20151007T113000
DTSTAMP:20260424T075822
CREATED:20160406T182547Z
LAST-MODIFIED:20160831T135053Z
UID:2168-1444206600-1444217400@www.parentscouncil.org
SUMMARY:2015 Fall Orientation: featuring Dr. Patricia Lyons on Parenting
DESCRIPTION:Dr. Patricia Lyons on Parenting\nFor Parents Council Reps and PA Presidents of Member Schools Only
URL:https://www.parentscouncil.org/event/2015-pcw-orientation/
LOCATION:National Presbyterian School\, 4121 Nebraska Avenue Northwest\, Washington\, DC \, 20016\, United States
CATEGORIES:Events,Parent Association President and PCW School Representative Events
END:VEVENT
BEGIN:VEVENT
DTSTART;TZID=America/New_York:20150505T083000
DTEND;TZID=America/New_York:20150505T110000
DTSTAMP:20260424T075822
CREATED:20160406T182546Z
LAST-MODIFIED:20160823T170217Z
UID:2163-1430814600-1430823600@www.parentscouncil.org
SUMMARY:2015 PA Presidents' Forum
DESCRIPTION:“If I Knew Then What I Know Now…”
URL:https://www.parentscouncil.org/event/2015-pa-presidents-forum/
LOCATION:Washington Episcopal School\,  5600 Little Falls  Dr.\, Bethesda\, MD\, 20854\, United States
CATEGORIES:Events,Parent Association President and PCW School Representative Events
END:VEVENT
END:VCALENDAR